BEGIN:VCALENDAR
VERSION:2.0
PRODID:-//Celbridge Camera Club - ECPv6.0.1//NONSGML v1.0//EN
CALSCALE:GREGORIAN
METHOD:PUBLISH
X-WR-CALNAME:Celbridge Camera Club
X-ORIGINAL-URL:https://celbridgecameraclub.net
X-WR-CALDESC:Events for Celbridge Camera Club
REFRESH-INTERVAL;VALUE=DURATION:PT1H
X-Robots-Tag:noindex
X-PUBLISHED-TTL:PT1H
BEGIN:VTIMEZONE
TZID:UTC
BEGIN:STANDARD
TZOFFSETFROM:+0000
TZOFFSETTO:+0000
TZNAME:UTC
DTSTART:20190101T000000
END:STANDARD
END:VTIMEZONE
BEGIN:VEVENT
DTSTART;TZID=UTC:20191014T200000
DTEND;TZID=UTC:20191014T213000
DTSTAMP:20260423T110708
CREATED:20191010T233643Z
LAST-MODIFIED:20191010T233643Z
UID:2938-1571083200-1571088600@celbridgecameraclub.net
SUMMARY:This Monday\, the 14th of October\, our own Gerry Kerr will show us some of his latest images\, pre and post editing. He will talk us through the techniques he uses to enhance his photos.
DESCRIPTION:Gerry’s passion in photography is people in their environment and the natural world. He is a Fellow of the Irish Photographic Federation (IPF) and has been a member of the Council of the IPF for more than ten years. He has an EFIAP distinction. This is a distinction of Excellence awarded by the Federation Internationale Art Photographique.
URL:https://celbridgecameraclub.net/event/this-monday-the-14th-of-october-our-own-gerry-kerr-will-show-us-some-of-his-latest-images-pre-and-post-editing-he-will-talk-us-through-the-techniques-he-uses-to-enhance-his-photos/
END:VEVENT
END:VCALENDAR