BEGIN:VCALENDAR
VERSION:2.0
PRODID:-//Celbridge Camera Club - ECPv6.0.1//NONSGML v1.0//EN
CALSCALE:GREGORIAN
METHOD:PUBLISH
X-WR-CALNAME:Celbridge Camera Club
X-ORIGINAL-URL:https://celbridgecameraclub.net
X-WR-CALDESC:Events for Celbridge Camera Club
REFRESH-INTERVAL;VALUE=DURATION:PT1H
X-Robots-Tag:noindex
X-PUBLISHED-TTL:PT1H
BEGIN:VTIMEZONE
TZID:UTC
BEGIN:STANDARD
TZOFFSETFROM:+0000
TZOFFSETTO:+0000
TZNAME:UTC
DTSTART:20200101T000000
END:STANDARD
END:VTIMEZONE
BEGIN:VEVENT
DTSTART;TZID=UTC:20200106T200000
DTEND;TZID=UTC:20200106T200000
DTSTAMP:20260421T134426
CREATED:20190719T230046Z
LAST-MODIFIED:20190719T230553Z
UID:2831-1578340800-1578340800@celbridgecameraclub.net
SUMMARY:POTY Round 4 Hand In Night
DESCRIPTION:This is the hand in night for the 4th round of the Photographer of the Year competition (see details for this seasons’s competition here). \nAging Gracefully is the theme for this round of the competition for Novice and Intermediate members.\nColour Print is the media to be used for the themed image for Intermediate members. \nPlease make sure you follow the guidelines for submitting images (which can be found here) as otherwise your images may be disqualified.
URL:https://celbridgecameraclub.net/event/poty-round-4-hand-in-night-3/
LOCATION:Slip Hall Celbridge
CATEGORIES:Competition Hand In Night,Competiton
END:VEVENT
BEGIN:VEVENT
DTSTART;TZID=UTC:20200106T200000
DTEND;TZID=UTC:20200106T213000
DTSTAMP:20260421T134426
CREATED:20200102T174015Z
LAST-MODIFIED:20200102T174015Z
UID:2990-1578340800-1578346200@celbridgecameraclub.net
SUMMARY:This Monday\, the 6th of January\, we will have a presentation by our Audio Visual (AV) Group
DESCRIPTION:Our AV Group will show us some of our individual members’ entries and the club’s entry to the Irish Photographic Federation (IPF) Audio Visual Championships 2019. In addition to the National AV Championships the IPF was hosting the 7th International AV competition. The Championships took place last October in Áras Chronáin\, the Irish Cultural Centre in Clondalkin.\nThey will also show us an entry from Italy\, the overall winner of the International category.\nThis will be an opportunity for all of us to see the latest creative works from our Audio Visual Group who have been remarkably successful in both national and international competitions over the years.
URL:https://celbridgecameraclub.net/event/this-monday-the-6th-of-january-we-will-have-a-presentation-by-our-audio-visual-av-group/
CATEGORIES:Presentation
END:VEVENT
END:VCALENDAR