BEGIN:VCALENDAR
VERSION:2.0
PRODID:-//Celbridge Camera Club - ECPv6.0.1//NONSGML v1.0//EN
CALSCALE:GREGORIAN
METHOD:PUBLISH
X-ORIGINAL-URL:https://celbridgecameraclub.net
X-WR-CALDESC:Events for Celbridge Camera Club
REFRESH-INTERVAL;VALUE=DURATION:PT1H
X-Robots-Tag:noindex
X-PUBLISHED-TTL:PT1H
BEGIN:VTIMEZONE
TZID:UTC
BEGIN:STANDARD
TZOFFSETFROM:+0000
TZOFFSETTO:+0000
TZNAME:UTC
DTSTART:20190101T000000
END:STANDARD
END:VTIMEZONE
BEGIN:VEVENT
DTSTART;TZID=UTC:20191104T200000
DTEND;TZID=UTC:20191104T220000
DTSTAMP:20260420T004526
CREATED:20190719T232458Z
LAST-MODIFIED:20190818T191241Z
UID:2843-1572897600-1572904800@celbridgecameraclub.net
SUMMARY:POTY Round 2 Judging Night
DESCRIPTION:Judging for round 2 of the POTY. \nGerry Andrews from Dublin Camera Club will be our judge for this round of the competition.
URL:https://celbridgecameraclub.net/event/poty-round-2-judging-night-2/
LOCATION:Slip Hall Celbridge
CATEGORIES:Competition Judging Night,Competiton
END:VEVENT
BEGIN:VEVENT
DTSTART;TZID=UTC:20191104T200000
DTEND;TZID=UTC:20191104T220000
DTSTAMP:20260420T004526
CREATED:20190719T232458Z
LAST-MODIFIED:20190818T191241Z
UID:2843-1572897600-1572904800@celbridgecameraclub.net
SUMMARY:POTY Round 2 Judging Night
DESCRIPTION:Judging for round 2 of the POTY. \nGerry Andrews from Dublin Camera Club will be our judge for this round of the competition.
URL:https://celbridgecameraclub.net/event/poty-round-2-judging-night-2/
LOCATION:Slip Hall Celbridge
CATEGORIES:Competition Judging Night,Competiton
END:VEVENT
BEGIN:VEVENT
DTSTART;TZID=UTC:20191125T200000
DTEND;TZID=UTC:20191125T200000
DTSTAMP:20260420T004526
CREATED:20190719T225917Z
LAST-MODIFIED:20190719T225917Z
UID:2829-1574712000-1574712000@celbridgecameraclub.net
SUMMARY:POTY Round 3 Hand In Night
DESCRIPTION:This is the hand in night for the 3rd round of the Photographer of the Year competition (see details for this seasons’s competition here). \nDiversity is the theme for this round of the competition for Novice and Intermediate members.\nDigital Projected Image is the media to be used for the themed image for Intermediate members. \nPlease make sure you follow the guidelines for submitting images (which can be found here) as otherwise your images may be disqualified.
URL:https://celbridgecameraclub.net/event/poty-round-3-hand-in-night-3/
LOCATION:Slip Hall Celbridge
CATEGORIES:Competition Hand In Night,Competiton
END:VEVENT
BEGIN:VEVENT
DTSTART;TZID=UTC:20191125T200000
DTEND;TZID=UTC:20191125T200000
DTSTAMP:20260420T004526
CREATED:20190719T225917Z
LAST-MODIFIED:20190719T225917Z
UID:2829-1574712000-1574712000@celbridgecameraclub.net
SUMMARY:POTY Round 3 Hand In Night
DESCRIPTION:This is the hand in night for the 3rd round of the Photographer of the Year competition (see details for this seasons’s competition here). \nDiversity is the theme for this round of the competition for Novice and Intermediate members.\nDigital Projected Image is the media to be used for the themed image for Intermediate members. \nPlease make sure you follow the guidelines for submitting images (which can be found here) as otherwise your images may be disqualified.
URL:https://celbridgecameraclub.net/event/poty-round-3-hand-in-night-3/
LOCATION:Slip Hall Celbridge
CATEGORIES:Competition Hand In Night,Competiton
END:VEVENT
END:VCALENDAR