BEGIN:VCALENDAR
VERSION:2.0
PRODID:-//Celbridge Camera Club - ECPv6.0.1//NONSGML v1.0//EN
CALSCALE:GREGORIAN
METHOD:PUBLISH
X-ORIGINAL-URL:https://celbridgecameraclub.net
X-WR-CALDESC:Events for Celbridge Camera Club
REFRESH-INTERVAL;VALUE=DURATION:PT1H
X-Robots-Tag:noindex
X-PUBLISHED-TTL:PT1H
BEGIN:VTIMEZONE
TZID:UTC
BEGIN:STANDARD
TZOFFSETFROM:+0000
TZOFFSETTO:+0000
TZNAME:UTC
DTSTART:20220101T000000
END:STANDARD
END:VTIMEZONE
BEGIN:VEVENT
DTSTART;TZID=UTC:20260323T200000
DTEND;TZID=UTC:20260323T220000
DTSTAMP:20260424T075728
CREATED:20251126T221852Z
LAST-MODIFIED:20251126T222732Z
UID:5855-1774296000-1774303200@celbridgecameraclub.net
SUMMARY:POTY Round 5 Hand In. Theme: Composite (2 or more layers)
DESCRIPTION:Hand in for Round 5 of the POTY. The theme for this round is Composite (2 or more layers). \nThis is the closing date for submissions for Round 5 of the Photographer of the Year competition (see details for this season’s competition here).  \nPlease make sure you follow the guidelines for submitting images (which can be found here) as otherwise your images may be disqualified.
URL:https://celbridgecameraclub.net/event/poty-round-5-hand-in-theme-composite-2-or-more-layers/
LOCATION:Slip Hall Celbridge
CATEGORIES:Competition Hand In Night,Competiton
END:VEVENT
BEGIN:VEVENT
DTSTART;TZID=UTC:20260223T200000
DTEND;TZID=UTC:20260223T220000
DTSTAMP:20260424T075728
CREATED:20251126T222945Z
LAST-MODIFIED:20251126T223238Z
UID:5860-1771876800-1771884000@celbridgecameraclub.net
SUMMARY:Nature Photographer of the Year Hand In
DESCRIPTION:This is the closing date for submissions for the Nature Photographer of the Year competition (see details for this season’s competition here).  \nPlease note that all images are to be submitted as digital images. There are no print entries for this season’s Nature Photographer of the Year competition.\nPlease make sure you follow the guidelines for submitting images (which can be found here) as otherwise your images may be disqualified.
URL:https://celbridgecameraclub.net/event/nature-photographer-of-the-year-hand-in-2/
LOCATION:Online
CATEGORIES:Competition Hand In Night,Competiton
END:VEVENT
BEGIN:VEVENT
DTSTART;TZID=UTC:20260126T200000
DTEND;TZID=UTC:20260126T220000
DTSTAMP:20260424T075728
CREATED:20251126T221413Z
LAST-MODIFIED:20251126T221413Z
UID:5853-1769457600-1769464800@celbridgecameraclub.net
SUMMARY:POTY Round 4 Hand In. Theme: After Dark (Nightlife\, Neon Lights\, Shadow)
DESCRIPTION:Hand in for Round 4 of the POTY. The theme for this round is After Dark (Nightlife\, Neon Lights\, Shadow). \nThis is the closing date for submissions for Round 4 of the Photographer of the Year competition (see details for this season’s competition here).  \nPlease make sure you follow the guidelines for submitting images (which can be found here) as otherwise your images may be disqualified.
URL:https://celbridgecameraclub.net/event/poty-round-4-hand-in-theme-after-dark-nightlife-neon-lights-shadow/
LOCATION:Slip Hall Celbridge
CATEGORIES:Competition Hand In Night,Competiton
END:VEVENT
BEGIN:VEVENT
DTSTART;TZID=UTC:20251124T200000
DTEND;TZID=UTC:20251124T220000
DTSTAMP:20260424T075728
CREATED:20250816T214652Z
LAST-MODIFIED:20250816T214652Z
UID:5770-1764014400-1764021600@celbridgecameraclub.net
SUMMARY:POTY Round 3 Hand In. Theme: Occupations/Environmental Portraiture
DESCRIPTION:Hand in for Round 3 of the POTY. The theme for this round is Occupations/Environmental Portraiture. \nThis is the closing date for submissions for Round 3 of the Photographer of the Year competition (see details for this season’s competition here).  \nPlease make sure you follow the guidelines for submitting images (which can be found here) as otherwise your images may be disqualified.
URL:https://celbridgecameraclub.net/event/poty-round-3-hand-in-theme-occupations-environmental-portraiture/
LOCATION:Slip Hall Celbridge
CATEGORIES:Competition Hand In Night,Competiton
END:VEVENT
BEGIN:VEVENT
DTSTART;TZID=UTC:20251103T200000
DTEND;TZID=UTC:20251103T220000
DTSTAMP:20260424T075728
CREATED:20250816T213656Z
LAST-MODIFIED:20250816T213656Z
UID:5762-1762200000-1762207200@celbridgecameraclub.net
SUMMARY:POTY Round 2 Hand In. Theme: Minimalist
DESCRIPTION:Hand in for Round 2 of the POTY. The theme for this round is Minimalist. \nThis is the closing date for submissions for Round 2 of the Photographer of the Year competition (see details for this season’s competition here).  \nPlease make sure you follow the guidelines for submitting images (which can be found here) as otherwise your images may be disqualified.
URL:https://celbridgecameraclub.net/event/poty-round-2-hand-in-theme-minimalist/
LOCATION:Slip Hall Celbridge
CATEGORIES:Competition Hand In Night,Competiton
END:VEVENT
BEGIN:VEVENT
DTSTART;TZID=UTC:20250929T200000
DTEND;TZID=UTC:20250929T220000
DTSTAMP:20260424T075728
CREATED:20250816T170255Z
LAST-MODIFIED:20250816T170255Z
UID:5750-1759176000-1759183200@celbridgecameraclub.net
SUMMARY:POTY Round 1 Hand In. Theme: Sports.
DESCRIPTION:Hand in for Round 1 of the POTY. The theme for this round is Sports. \nThis is the closing date for submissions for Round 1 of the Photographer of the Year competition (see details for this season’s competition here).  \nPlease make sure you follow the guidelines for submitting images (which can be found here) as otherwise your images may be disqualified.
URL:https://celbridgecameraclub.net/event/poty-round-1-hand-in-theme-sports/
LOCATION:Slip Hall Celbridge
CATEGORIES:Competition Hand In Night,Competiton
END:VEVENT
BEGIN:VEVENT
DTSTART;TZID=UTC:20250428T200000
DTEND;TZID=UTC:20250428T220000
DTSTAMP:20260424T075728
CREATED:20250308T144349Z
LAST-MODIFIED:20250325T204132Z
UID:5520-1745870400-1745877600@celbridgecameraclub.net
SUMMARY:Hand In for the Annual Exhibition
DESCRIPTION:Members are entitled to enter up to three images in the Annual Exhibition: one Colour Print\, one Monochrome Print and one digital image. \nThere is a cost (yet to be determined) for entering printed images which is the cost for the frames. \nAs for the NPOTY and POTY competitions\, all entries are to be e-mailed to the competition cccinternalcomp@gmail.com and the usual rules for mounting and naming images apply. Prints need to be handed in at the Slip Hall.\nPlease make sure to title each of your images as the names will be displayed on the brochure. \nImages will be judged before they are framed. Former club member\, Stuart Bould\, will be the judge for the Annual Exhibition. \nFor the Annual Exhibition the prizes to be awarded are: \n\nBest Image in Exhibition\nBest Monochrome Image in Exhibition\nBest Advanced Image in Exhibition\nBest Intermediate Image in Exhibition\nBest Novice Image in Exhibition\n\nAn image can win only one prize\, so\, for example\, if a monochrome image wins Best Overall Image in Exhibition\, then a different monochrome image will be awarded the Best Monochrome Image in Exhibition prize.
URL:https://celbridgecameraclub.net/event/hand-in-for-the-annual-exhibition/
LOCATION:Slip Hall Celbridge
CATEGORIES:Competition Hand In Night,Competiton,Exhibition
END:VEVENT
BEGIN:VEVENT
DTSTART;TZID=UTC:20250331T200000
DTEND;TZID=UTC:20250331T220000
DTSTAMP:20260424T075728
CREATED:20240717T202131Z
LAST-MODIFIED:20240717T202131Z
UID:5263-1743451200-1743458400@celbridgecameraclub.net
SUMMARY:POTY Round 6 Hand In. Theme: Flora and Fauna
DESCRIPTION:The theme for this round is Flora and Fauna. \nThis is the closing date for submissions for the Round 6 of the Photographer of the Year competition (see details for this season’s competition here). Digital Images are to be e-mailed to the competition cccinternalcomp@gmail.com not later than 31st March 2025. \nPlease make sure you follow the guidelines for submitting images (which can be found here) as otherwise your images may be disqualified. \n\nPlease note that for Advanced and Intermediate members\, while the Colour and Mono Open sections are to be submitted as Prints\, digital images are also required in order to facilitate projection on the judging night\, and selection for external competitions.
URL:https://celbridgecameraclub.net/event/poty-round-6-hand-in-theme-flora-and-fauna/
LOCATION:Slip Hall Celbridge
CATEGORIES:Competition Hand In Night,Competiton
END:VEVENT
BEGIN:VEVENT
DTSTART;TZID=UTC:20250217T200000
DTEND;TZID=UTC:20250217T220000
DTSTAMP:20260424T075728
CREATED:20240717T201954Z
LAST-MODIFIED:20250109T225111Z
UID:5261-1739822400-1739829600@celbridgecameraclub.net
SUMMARY:POTY Round 5 Hand In. Theme: Candid Portraits
DESCRIPTION:The theme for this round is Candid Portraits. \nThis is the closing date for submissions for Round 5 of the Photographer of the Year competition (see details for this season’s competition here). Digital Images are to be e-mailed to the competition cccinternalcomp@gmail.com not later than 17th February 2025. \nPlease make sure you follow the guidelines for submitting images (which can be found here) as otherwise your images may be disqualified. \nPlease note that for Advanced and Intermediate members\, while the Colour and Mono Open sections are to be submitted as Prints\, digital images are also required in order to facilitate projection on the judging night\, and selection for external competitions.
URL:https://celbridgecameraclub.net/event/poty-round-5-hand-in-theme-candid-portraits/
LOCATION:Slip Hall Celbridge
CATEGORIES:Competition Hand In Night,Competiton
END:VEVENT
BEGIN:VEVENT
DTSTART;TZID=UTC:20250127T200000
DTEND;TZID=UTC:20250127T220000
DTSTAMP:20260424T075728
CREATED:20240717T202400Z
LAST-MODIFIED:20240717T202400Z
UID:5265-1738008000-1738015200@celbridgecameraclub.net
SUMMARY:Nature Photographer of the Year Hand In
DESCRIPTION:This is the closing date for submissions for the Nature Photographer of the Year competition (see details for this season’s competition here). Digital Images are to be e-mailed to the competition cccinternalcomp@gmail.com not later than 27th January 2025. \nPlease make sure you follow the guidelines for submitting images (which can be found here) as otherwise your images may be disqualified.
URL:https://celbridgecameraclub.net/event/nature-photographer-of-the-year-hand-in/
LOCATION:Slip Hall Celbridge
CATEGORIES:Competition Hand In Night,Competiton
END:VEVENT
BEGIN:VEVENT
DTSTART;TZID=UTC:20250113T200000
DTEND;TZID=UTC:20250113T220000
DTSTAMP:20260424T075728
CREATED:20240717T201302Z
LAST-MODIFIED:20250102T111918Z
UID:5258-1736798400-1736805600@celbridgecameraclub.net
SUMMARY:POTY Round 4 Hand In. Theme: Reflection
DESCRIPTION:The theme for this round is Reflection. \nThis is the closing date for submissions for Round 4 of the Photographer of the Year competition (see details for this season’s competition here). Digital Images are to be e-mailed to the competition cccinternalcomp@gmail.com not later than 13th January 2025. \nPlease make sure you follow the guidelines for submitting images (which can be found here) as otherwise your images may be disqualified. \n  \nPlease note that for Advanced and Intermediate members\, while the Colour and Mono Open sections are to be submitted as Prints\, digital images are also required in order to facilitate projection on the judging night\, and selection for external competitions.
URL:https://celbridgecameraclub.net/event/poty-round-4-hand-in-theme-reflection/
LOCATION:Slip Hall Celbridge
CATEGORIES:Competition Hand In Night,Competiton
END:VEVENT
BEGIN:VEVENT
DTSTART;TZID=UTC:20241125T200000
DTEND;TZID=UTC:20241125T220000
DTSTAMP:20260424T075728
CREATED:20240717T201146Z
LAST-MODIFIED:20240717T201146Z
UID:5256-1732564800-1732572000@celbridgecameraclub.net
SUMMARY:POTY Round 3 Hand In. Theme: People and the Coast
DESCRIPTION:The theme for this round is People and the Coast. \nThis is the closing date for submissions for Round 3 of the Photographer of the Year competition (see details for this season’s competition here). Digital Images are to be e-mailed to the competition cccinternalcomp@gmail.com not later than 25th November 2024. \nPlease make sure you follow the guidelines for submitting images (which can be found here) as otherwise your images may be disqualified. \n\nPlease note that for Advanced and Intermediate members\, while the Colour and Mono Open sections are to be submitted as Prints\, digital images are also required in order to facilitate projection on the judging night\, and selection for external competitions.
URL:https://celbridgecameraclub.net/event/poty-round-3-hand-in-theme-people-and-the-coast/
LOCATION:Slip Hall Celbridge
CATEGORIES:Competition Hand In Night,Competiton
END:VEVENT
BEGIN:VEVENT
DTSTART;TZID=UTC:20241021T200000
DTEND;TZID=UTC:20241021T220000
DTSTAMP:20260424T075728
CREATED:20240717T200924Z
LAST-MODIFIED:20240717T200924Z
UID:5254-1729540800-1729548000@celbridgecameraclub.net
SUMMARY:POTY Round 2 Hand In. Theme: Macro
DESCRIPTION:The theme for this round is Macro. \nThis is the closing date for submissions for Round 2 of the Photographer of the Year competition (see details for this season’s competition here). Digital Images are to be e-mailed to the competition cccinternalcomp@gmail.com not later than 21st October 2024. \nPlease make sure you follow the guidelines for submitting images (which can be found here) as otherwise your images may be disqualified.\n\nPlease note that for Advanced and Intermediate members\, while the Colour and Mono Open sections are to be submitted as Prints\, digital images are also required in order to facilitate projection on the judging night\, and selection for external competitions.
URL:https://celbridgecameraclub.net/event/poty-round-2-hand-in-theme-macro/
LOCATION:Slip Hall Celbridge
CATEGORIES:Competition Hand In Night,Competiton
END:VEVENT
BEGIN:VEVENT
DTSTART;TZID=UTC:20240930T200000
DTEND;TZID=UTC:20240930T220000
DTSTAMP:20260424T075728
CREATED:20240717T200539Z
LAST-MODIFIED:20240717T200539Z
UID:5252-1727726400-1727733600@celbridgecameraclub.net
SUMMARY:POTY Round 1 Hand In. Theme: Activity
DESCRIPTION:The theme for this round is Activity. \nThis is the closing date for submissions for Round 1 of the Photographer of the Year competition (see details for this season’s competition here). Digital Images are to be e-mailed to the competition email address cccinternalcomp@gmail.com not later than 30th September 2024. \nPlease make sure you follow the guidelines for submitting images (which can be found here) as otherwise your images may be disqualified. \n\nPlease note that for Advanced and Intermediate members\, while the Colour and Mono Open sections are to be submitted as Prints\, digital images are also required in order to facilitate projection on the judging night\, and selection for external competitions. \n 
URL:https://celbridgecameraclub.net/event/poty-round-1-hand-in-theme-activity/
LOCATION:Slip Hall Celbridge
CATEGORIES:Competition Hand In Night,Competiton
END:VEVENT
BEGIN:VEVENT
DTSTART;TZID=UTC:20240520T200000
DTEND;TZID=UTC:20240520T220000
DTSTAMP:20260424T075728
CREATED:20240222T225428Z
LAST-MODIFIED:20240430T211439Z
UID:5136-1716235200-1716242400@celbridgecameraclub.net
SUMMARY:Hand in night for the Club Exhibition
DESCRIPTION:This is the hand in night for the club exhibition. \nPrinted Images to be handed in to the Slip Hall. \nDigital Images are to be e-mailed to the competition cccinternalcomp@gmail.com not later than 13/05/2023. \nPlease make sure you follow the guidelines for submitting images (which can be found here) as otherwise your images may be disqualified.
URL:https://celbridgecameraclub.net/event/hand-in-night-for-the-club-exhibition/
LOCATION:Slip Hall Celbridge
CATEGORIES:Competition Hand In Night,Competiton
END:VEVENT
BEGIN:VEVENT
DTSTART;VALUE=DATE:20240422
DTEND;VALUE=DATE:20240423
DTSTAMP:20260424T075728
CREATED:20231205T211439Z
LAST-MODIFIED:20231205T211439Z
UID:5088-1713744000-1713830399@celbridgecameraclub.net
SUMMARY:POTY Round 6 Hand In. Theme: The Human Face
DESCRIPTION:For this round\, all images are to be submitted as digital images. \nThis is the closing date for submissions for the Round 6 of the Photographer of the Year competition (see details for this season’s competition here). Digital Images are to be e-mailed to the competition cccinternalcomp@gmail.com not later than 22nd April 2024. \nPlease make sure you follow the guidelines for submitting images (which can be found here) as otherwise your images may be disqualified. \nThe theme is The Human Face.
URL:https://celbridgecameraclub.net/event/poty-round-6-hand-in-theme-the-human-face/
LOCATION:Online
CATEGORIES:Competition Hand In Night,Competiton
END:VEVENT
BEGIN:VEVENT
DTSTART;VALUE=DATE:20240311
DTEND;VALUE=DATE:20240312
DTSTAMP:20260424T075728
CREATED:20231205T210156Z
LAST-MODIFIED:20231205T210156Z
UID:5078-1710115200-1710201599@celbridgecameraclub.net
SUMMARY:POTY Round 5 Hand In. Theme: Land and Sea
DESCRIPTION:For this round\, all images are to be submitted as digital images. \nThis is the closing date for submissions for the Round 5 of the Photographer of the Year competition (see details for this season’s competition here). Digital Images are to be e-mailed to the competition cccinternalcomp@gmail.com not later than 11th March 2024. \nPlease make sure you follow the guidelines for submitting images (which can be found here) as otherwise your images may be disqualified. \nThe theme is Land and Sea.
URL:https://celbridgecameraclub.net/event/poty-round-5-hand-in-theme-land-and-sea/
LOCATION:Online
CATEGORIES:Competition Hand In Night,Competiton
END:VEVENT
BEGIN:VEVENT
DTSTART;TZID=UTC:20240212T200000
DTEND;TZID=UTC:20240212T220000
DTSTAMP:20260424T075728
CREATED:20231117T193127Z
LAST-MODIFIED:20231117T214604Z
UID:5045-1707768000-1707775200@celbridgecameraclub.net
SUMMARY:POTY Round 4 Hand In. Theme: The Decisive Moment
DESCRIPTION:Please note that for Advanced members\, this is a Print round\, but digital images are required as well in order to facilitate presentation during judging. \nFor this round: \n\nImages for Novice and Intermediate members are to be submitted as digital images.\nImages for Advanced members are to be submitted as prints\, however\, digital images should also be submitted.\nDigital images will be displayed during judging . However\, the prints will be judged.\n\nThis is the closing date for submissions for the Round 4 of the Photographer of the Year competition (see details for this season’s competition here). \n\nDigital Images are to be e-mailed to the competition cccinternalcomp@gmail.com not later than 12th February 2024.\nPrint entries are to be brought to the Slip Hall on the night\n\nPlease make sure you follow the guidelines for submitting images (which can be found here) as otherwise your images may be disqualified. \nThe theme is The Decisive Moment.
URL:https://celbridgecameraclub.net/event/poty-round-4-hand-in-theme-the-decisive-moment/
CATEGORIES:Competition Hand In Night,Competiton
END:VEVENT
BEGIN:VEVENT
DTSTART;VALUE=DATE:20240115
DTEND;VALUE=DATE:20240116
DTSTAMP:20260424T075728
CREATED:20231117T190708Z
LAST-MODIFIED:20231117T190746Z
UID:5035-1705276800-1705363199@celbridgecameraclub.net
SUMMARY:Nature Competition Hand In
DESCRIPTION:Hand in for the Club Nature Photographer of the Year competition. \nSee the Nature Competitions page for more details about this competition. \nSee the Image Submission Rules page for details on submitting images to club competitions. \n 
URL:https://celbridgecameraclub.net/event/nature-competition-hand-in/
LOCATION:Online
CATEGORIES:Competition Hand In Night,Competiton
END:VEVENT
BEGIN:VEVENT
DTSTART;TZID=UTC:20231204T200000
DTEND;TZID=UTC:20231204T220000
DTSTAMP:20260424T075728
CREATED:20230821T211815Z
LAST-MODIFIED:20231117T214437Z
UID:4961-1701720000-1701727200@celbridgecameraclub.net
SUMMARY:POTY Round 3 Hand In. Theme: People and their Environment
DESCRIPTION:Please note that for Advanced members\, this is a Print round\, but digital images are required as well in order to facilitate presentation during judging (which may be online via Zoom). \nFor this round: \n\nImages for Novice and Intermediate members are to be submitted as digital images.\nImages for Advanced members are to be submitted as prints\, however\, digital images should also be submitted.\nDigital images will be displayed during judging (which may be online via Zoom). However\, the prints will be judged.\n\nThis is the closing date for submissions for the Round 3 of the Photographer of the Year competition (see details for this season’s competition here). \n\nDigital Images are to be e-mailed to the competition cccinternalcomp@gmail.com not later than 4th December 2023.\nPrint entries are to be brought to the Slip Hall on the night\n\nPlease make sure you follow the guidelines for submitting images (which can be found here) as otherwise your images may be disqualified. \nThe theme is People and their Environment.
URL:https://celbridgecameraclub.net/event/poty-round-3-hand-in-theme-people-and-their-environment/
LOCATION:Slip Hall Celbridge
CATEGORIES:Competition Hand In Night,Competiton,Meeting
END:VEVENT
BEGIN:VEVENT
DTSTART;TZID=UTC:20231106T233000
DTEND;TZID=UTC:20231106T233000
DTSTAMP:20260424T075728
CREATED:20230815T215325Z
LAST-MODIFIED:20230821T210919Z
UID:4921-1699313400-1699313400@celbridgecameraclub.net
SUMMARY:POTY Round 2 Hand In. Theme: Capturing the Light
DESCRIPTION:For this round\, all images are to be submitted as digital images. \nThis is the closing date for submissions for the Round 2 of the Photographer of the Year competition (see details for this season’s competition here). Digital Images are to be e-mailed to the competition cccinternalcomp@gmail.com not later than 6th November 2023. \nPlease make sure you follow the guidelines for submitting images (which can be found here) as otherwise your images may be disqualified. \nThe theme is Capturing the Light.
URL:https://celbridgecameraclub.net/event/poty-round-2-hand-in-theme-capturing-the-light/
LOCATION:Online
CATEGORIES:Competition Hand In Night,Competiton
END:VEVENT
BEGIN:VEVENT
DTSTART;TZID=UTC:20231002T233000
DTEND;TZID=UTC:20231002T233000
DTSTAMP:20260424T075728
CREATED:20230815T214437Z
LAST-MODIFIED:20230815T215946Z
UID:4916-1696289400-1696289400@celbridgecameraclub.net
SUMMARY:POTY Round 1 Hand In. Theme: Different Perspectives
DESCRIPTION:For this round\, all images are to be submitted as digital images. \nThis is the closing date for submissions for the Round 1 of the Photographer of the Year competition (see details for this season’s competition here). Digital Images are to be e-mailed to the competition cccinternalcomp@gmail.com not later than 2nd October 2023. \nPlease make sure you follow the guidelines for submitting images (which can be found here) as otherwise your images may be disqualified. \nThe theme is Different Perspectives.
URL:https://celbridgecameraclub.net/event/poty-round-1-hand-in-theme-different-perspectives/
LOCATION:Online
CATEGORIES:Competition Hand In Night,Competiton
END:VEVENT
BEGIN:VEVENT
DTSTART;TZID=UTC:20230508T200000
DTEND;TZID=UTC:20230508T220000
DTSTAMP:20260424T075728
CREATED:20230428T112456Z
LAST-MODIFIED:20230428T112456Z
UID:4854-1683576000-1683583200@celbridgecameraclub.net
SUMMARY:Pat Byrne presents images from Vietnam
DESCRIPTION:Pat Byrne is a long time member of Celbridge Camera Club and an accomplished photographer and we are delighted that he will present images from his recent trip to Vietnam.
URL:https://celbridgecameraclub.net/event/pat-byrne-presents-images-from-vietnam/
LOCATION:Slip Hall
CATEGORIES:Competition Hand In Night,Meeting,Presentation
END:VEVENT
BEGIN:VEVENT
DTSTART;TZID=UTC:20230508T200000
DTEND;TZID=UTC:20230508T220000
DTSTAMP:20260424T075728
CREATED:20220706T211104Z
LAST-MODIFIED:20220706T211426Z
UID:4210-1683576000-1683583200@celbridgecameraclub.net
SUMMARY:Exhibition Hand In
DESCRIPTION:Printed Images to be handed in to the Slip Hall. \nDigital Images are to be e-mailed to the competition cccinternalcomp@gmail.com not later than 08/05/2023. \nPlease make sure you follow the guidelines for submitting images (which can be found here) as otherwise your images may be disqualified.
URL:https://celbridgecameraclub.net/event/exhibition-hand-in/
LOCATION:Slip Hall Celbridge
CATEGORIES:Competition Hand In Night,Competiton,Exhibition
END:VEVENT
BEGIN:VEVENT
DTSTART;VALUE=DATE:20230417
DTEND;VALUE=DATE:20230418
DTSTAMP:20260424T075728
CREATED:20220706T204503Z
LAST-MODIFIED:20220706T205018Z
UID:4182-1681689600-1681775999@celbridgecameraclub.net
SUMMARY:POTY Round 6 Hand In. Theme: The sky at night (Sky/Landscape/Seascape)
DESCRIPTION:This is the closing date for submissions for the Round 6 of the Photographer of the Year competition (see details for this season’s competition here). Digital Images are to be e-mailed to the competition cccinternalcomp@gmail.com not later than 17/04/2023. \nPlease make sure you follow the guidelines for submitting images (which can be found here) as otherwise your images may be disqualified.
URL:https://celbridgecameraclub.net/event/poty-round-6-hand-in-theme-the-sky-at-night-sky-landscape-seascape/
CATEGORIES:Competition Hand In Night,Competiton
END:VEVENT
BEGIN:VEVENT
DTSTART;VALUE=DATE:20230320
DTEND;VALUE=DATE:20230321
DTSTAMP:20260424T075728
CREATED:20220706T204101Z
LAST-MODIFIED:20220706T205055Z
UID:4180-1679270400-1679356799@celbridgecameraclub.net
SUMMARY:POTY Round 5 Hand In. Theme: A sporting chance (Sport)
DESCRIPTION:This is the closing date for submissions for the Round 5 of the Photographer of the Year competition (see details for this season’s competition here). Digital Images are to be e-mailed to the competition cccinternalcomp@gmail.com not later than 20/03/2023. \nPlease make sure you follow the guidelines for submitting images (which can be found here) as otherwise your images may be disqualified.
URL:https://celbridgecameraclub.net/event/poty-round-5-hand-in-theme-a-sporting-chance-sport/
CATEGORIES:Competition Hand In Night,Competiton
END:VEVENT
BEGIN:VEVENT
DTSTART;VALUE=DATE:20230220
DTEND;VALUE=DATE:20230221
DTSTAMP:20260424T075728
CREATED:20220706T204719Z
LAST-MODIFIED:20220706T205121Z
UID:4184-1676851200-1676937599@celbridgecameraclub.net
SUMMARY:Nature POTY Hand In
DESCRIPTION:
URL:https://celbridgecameraclub.net/event/nature-poty-hand-in/
CATEGORIES:Competition Hand In Night,Competiton
END:VEVENT
BEGIN:VEVENT
DTSTART;TZID=UTC:20230123T200000
DTEND;TZID=UTC:20230123T213000
DTSTAMP:20260424T075728
CREATED:20230112T191705Z
LAST-MODIFIED:20230112T191705Z
UID:4385-1674504000-1674509400@celbridgecameraclub.net
SUMMARY:Bridie Maughan and Anne O'Grady
DESCRIPTION:Club members Bridie Maughan and Anne O’Grady present their work. Both have different interests and styles and it is guaranteed to be an interesting night.
URL:https://celbridgecameraclub.net/event/bridie-maughan-and-anne-ogrady/
CATEGORIES:Competition Hand In Night,Meeting,Presentation
END:VEVENT
BEGIN:VEVENT
DTSTART;VALUE=DATE:20230123
DTEND;VALUE=DATE:20230124
DTSTAMP:20260424T075728
CREATED:20220706T204006Z
LAST-MODIFIED:20220706T205206Z
UID:4178-1674432000-1674518399@celbridgecameraclub.net
SUMMARY:POTY Round 4 Hand In. Theme: We're only human (Portraiture)
DESCRIPTION:This is the closing date for submissions for the Round 6 of the Photographer of the Year competition (see details for this season’s competition here). Digital Images are to be e-mailed to the competition cccinternalcomp@gmail.com not later than 23/01/2023. \nPlease make sure you follow the guidelines for submitting images (which can be found here) as otherwise your images may be disqualified.
URL:https://celbridgecameraclub.net/event/poty-round-4-hand-in-theme-were-only-human-portraiture/
CATEGORIES:Competition Hand In Night,Competiton
END:VEVENT
BEGIN:VEVENT
DTSTART;VALUE=DATE:20221128
DTEND;VALUE=DATE:20221129
DTSTAMP:20260424T075728
CREATED:20220706T203856Z
LAST-MODIFIED:20220905T170627Z
UID:4176-1669593600-1669679999@celbridgecameraclub.net
SUMMARY:POTY Round 3 Hand In. Theme: Pure Imagination (Creative/Composite) & Guest Speaker Zdenek Malich
DESCRIPTION:Zdenek fell in love with the Irish landscape while living for a few years in the West of Ireland. He relocated to Dublin and eagerly attended workshops in the Czech Republic and Ireland and soon found his niche in long-exposure photography – a discipline which Zdenek has mastered and has as his signature. \nThis is the closing date for submissions for the Round 6 of the Photographer of the Year competition (see details for this season’s competition here). Digital Images are to be e-mailed to the competition cccinternalcomp@gmail.com not later than 28/11/2022. \nPlease make sure you follow the guidelines for submitting images (which can be found here) as otherwise your images may be disqualified.
URL:https://celbridgecameraclub.net/event/poty-round-3-hand-in-theme-pure-imagination-creative-composite/
CATEGORIES:Competition Hand In Night,Competiton,Meeting,Presentation
END:VEVENT
END:VCALENDAR