BEGIN:VCALENDAR
VERSION:2.0
PRODID:-//Celbridge Camera Club - ECPv6.0.1//NONSGML v1.0//EN
CALSCALE:GREGORIAN
METHOD:PUBLISH
X-WR-CALNAME:Celbridge Camera Club
X-ORIGINAL-URL:https://celbridgecameraclub.net
X-WR-CALDESC:Events for Celbridge Camera Club
REFRESH-INTERVAL;VALUE=DURATION:PT1H
X-Robots-Tag:noindex
X-PUBLISHED-TTL:PT1H
BEGIN:VTIMEZONE
TZID:UTC
BEGIN:STANDARD
TZOFFSETFROM:+0000
TZOFFSETTO:+0000
TZNAME:UTC
DTSTART:20190101T000000
END:STANDARD
END:VTIMEZONE
BEGIN:VEVENT
DTSTART;VALUE=DATE:20221031
DTEND;VALUE=DATE:20221101
DTSTAMP:20260422T005217
CREATED:20220706T203721Z
LAST-MODIFIED:20220706T205352Z
UID:4174-1667174400-1667260799@celbridgecameraclub.net
SUMMARY:POTY Round 2 Hand In. Theme: Still Life
DESCRIPTION:This is the closing date for submissions for the Round 2 of the Photographer of the Year competition (see details for this season’s competition here). Digital Images are to be e-mailed to the competition cccinternalcomp@gmail.com not later than 31/10/2022. \nPlease make sure you follow the guidelines for submitting images (which can be found here) as otherwise your images may be disqualified.
URL:https://celbridgecameraclub.net/event/poty-round-2-hand-in-theme-still-life/
CATEGORIES:Competition Hand In Night,Competiton
END:VEVENT
BEGIN:VEVENT
DTSTART;VALUE=DATE:20220926
DTEND;VALUE=DATE:20220927
DTSTAMP:20260422T005217
CREATED:20220706T203444Z
LAST-MODIFIED:20220706T205334Z
UID:4171-1664150400-1664236799@celbridgecameraclub.net
SUMMARY:POTY Round 1 Hand In. Theme: The Built Environment (Architecture)
DESCRIPTION:This is the closing date for submissions for the Round 1 of the Photographer of the Year competition (see details for this season’s competition here). Digital Images are to be e-mailed to the competition cccinternalcomp@gmail.com not later than 26/09/2022. \nPlease make sure you follow the guidelines for submitting images (which can be found here) as otherwise your images may be disqualified.
URL:https://celbridgecameraclub.net/event/poty-round-1-hand-in-the-built-environment-architecture/
CATEGORIES:Competition Hand In Night,Competiton
END:VEVENT
BEGIN:VEVENT
DTSTART;VALUE=DATE:20220502
DTEND;VALUE=DATE:20220503
DTSTAMP:20260422T005217
CREATED:20210815T121249Z
LAST-MODIFIED:20210815T121359Z
UID:3683-1651449600-1651535999@celbridgecameraclub.net
SUMMARY:POTY Round 6 Hand In
DESCRIPTION:This is the closing date for submissions for the Round 6 of the Photographer of the Year competition (see details for this season’s competition here). Digital Images are to be e-mailed to the competition cccinternalcomp@gmail.com not later than 02/05/2022. \n‘Small is Beautiful (Macro)’ (Colour DPI) is the theme for this round of the competition for all members. \nPlease make sure you follow the guidelines for submitting images (which can be found here) as otherwise your images may be disqualified.
URL:https://celbridgecameraclub.net/event/poty-round-6-hand-in-2/
CATEGORIES:Competition Hand In Night,Competiton
END:VEVENT
BEGIN:VEVENT
DTSTART;TZID=UTC:20220425T200000
DTEND;TZID=UTC:20220425T220000
DTSTAMP:20260422T005217
CREATED:20220318T001120Z
LAST-MODIFIED:20220318T001703Z
UID:4095-1650916800-1650924000@celbridgecameraclub.net
SUMMARY:Annual Exhibition Hand In
DESCRIPTION:Monday 25th April is the closing date for submissions for the Annual Exhibition (see details for this season’s competition here). Prints will need to be mounted and submitted in the club. Digital Images are to be e-mailed to the competition secretary at cccinternalcomp@gmail.com not later than 25/04/2022. \nPlease make sure you follow the guidelines for submitting images (which can be found here) as otherwise your images may be disqualified.
URL:https://celbridgecameraclub.net/event/hand-in-for-the-exhibition/
LOCATION:Slip Hall Celbridge
CATEGORIES:Competition Hand In Night,Competiton
END:VEVENT
BEGIN:VEVENT
DTSTART;VALUE=DATE:20220321
DTEND;VALUE=DATE:20220322
DTSTAMP:20260422T005217
CREATED:20210815T121055Z
LAST-MODIFIED:20210815T121521Z
UID:3681-1647820800-1647907199@celbridgecameraclub.net
SUMMARY:POTY Round 5 Hand In
DESCRIPTION:This is the closing date for submissions for the Round 5 of the Photographer of the Year competition (see details for this season’s competition here). Digital Images are to be e-mailed to the competition cccinternalcomp@gmail.com not later than 21/03/2021. \n‘Sporting Action (Sport)’ (Monochrome DPI) is the theme for this round of the competition for all members. \nPlease make sure you follow the guidelines for submitting images (which can be found here) as otherwise your images may be disqualified.
URL:https://celbridgecameraclub.net/event/poty-round-5-hand-in-2/
CATEGORIES:Competition Hand In Night,Competiton
END:VEVENT
BEGIN:VEVENT
DTSTART;VALUE=DATE:20220228
DTEND;VALUE=DATE:20220301
DTSTAMP:20260422T005217
CREATED:20210815T122222Z
LAST-MODIFIED:20210815T122318Z
UID:3687-1646006400-1646092799@celbridgecameraclub.net
SUMMARY:Nature Competition Hand In
DESCRIPTION:Hand In for the Club Nature Competition.
URL:https://celbridgecameraclub.net/event/nature-competition-hand-in-night-4/
CATEGORIES:Competition Hand In Night,Competiton
END:VEVENT
BEGIN:VEVENT
DTSTART;VALUE=DATE:20220124
DTEND;VALUE=DATE:20220125
DTSTAMP:20260422T005217
CREATED:20210815T120906Z
LAST-MODIFIED:20210815T121503Z
UID:3678-1642982400-1643068799@celbridgecameraclub.net
SUMMARY:POTY Round 4 Hand In
DESCRIPTION:This is the closing date for submissions for the Round 4 of the Photographer of the Year competition (see details for this season’s competition here). Digital Images are to be e-mailed to the competition cccinternalcomp@gmail.com not later than 24/01/2022. \n‘Faces of Ireland (Portraiture)’ (Monochrome DPI) is the theme for this round of the competition for all members. \nPlease make sure you follow the guidelines for submitting images (which can be found here) as otherwise your images may be disqualified.
URL:https://celbridgecameraclub.net/event/poty-round-4-hand-in-2/
CATEGORIES:Competition Hand In Night,Competiton
END:VEVENT
BEGIN:VEVENT
DTSTART;VALUE=DATE:20211129
DTEND;VALUE=DATE:20211130
DTSTAMP:20260422T005217
CREATED:20210815T120549Z
LAST-MODIFIED:20210815T121450Z
UID:3676-1638144000-1638230399@celbridgecameraclub.net
SUMMARY:POTY Round 3 Hand In
DESCRIPTION:This is the closing date for submissions for the Round 3 of the Photographer of the Year competition (see details for this season’s competition here). Digital Images are to be e-mailed to the competition cccinternalcomp@gmail.com not later than 29/11/2021. \n‘Pure Imagination (Creative/Composite)’ (Colour DPI) is the theme for this round of the competition for all members. \nPlease make sure you follow the guidelines for submitting images (which can be found here) as otherwise your images may be disqualified.
URL:https://celbridgecameraclub.net/event/poty-round-3-hand-in-2/
CATEGORIES:Competition Hand In Night,Competiton
END:VEVENT
BEGIN:VEVENT
DTSTART;TZID=UTC:20211101T200000
DTEND;TZID=UTC:20211101T223000
DTSTAMP:20260422T005217
CREATED:20210927T094125Z
LAST-MODIFIED:20210927T094125Z
UID:3772-1635796800-1635805800@celbridgecameraclub.net
SUMMARY:Monday Nov 1st - Mark Sedgwick instruction on Creative Photography and Hand in night
DESCRIPTION:Mark Sedgwick is one of our most versatile photographers who excels across all genres. In this talk\, he teaches the audience on some of the ways to take elements from different images to create new composite images.
URL:https://celbridgecameraclub.net/event/monday-nov-1st-mark-sedgwick-instruction-on-creative-photography-and-hand-in-night/
CATEGORIES:Competition Hand In Night,Presentation
END:VEVENT
BEGIN:VEVENT
DTSTART;VALUE=DATE:20211101
DTEND;VALUE=DATE:20211102
DTSTAMP:20260422T005217
CREATED:20210815T120339Z
LAST-MODIFIED:20211028T175228Z
UID:3674-1635724800-1635811199@celbridgecameraclub.net
SUMMARY:POTY Round 2 Hand In
DESCRIPTION:This is the closing date for submissions for the Round 2 of the Photographer of the Year competition (see details for this season’s competition here). Digital Images are to be e-mailed to the competition cccinternalcomp@gmail.com not later than 01/11/2021. \n‘Out and About (Street)’ (Mono) is the theme for this round of the competition for all members. \nPlease make sure you follow the guidelines for submitting images (which can be found here) as otherwise your images may be disqualified.
URL:https://celbridgecameraclub.net/event/poty-round-2-hand-in-2/
CATEGORIES:Competition Hand In Night,Competiton
END:VEVENT
BEGIN:VEVENT
DTSTART;VALUE=DATE:20210927
DTEND;VALUE=DATE:20210928
DTSTAMP:20260422T005217
CREATED:20210815T115713Z
LAST-MODIFIED:20210815T121412Z
UID:3668-1632700800-1632787199@celbridgecameraclub.net
SUMMARY:POTY Round 1 Hand In
DESCRIPTION:This is the closing date for submissions for the Round 1 of the Photographer of the Year competition (see details for this season’s competition here). Digital Images are to be e-mailed to the competition cccinternalcomp@gmail.com not later than 27/09/2021. \n‘The Irish Landscape’ (Colour DPI) is the theme for this round of the competition for all members. \nPlease make sure you follow the guidelines for submitting images (which can be found here) as otherwise your images may be disqualified.
URL:https://celbridgecameraclub.net/event/poty-round-1-hand-in-2/
CATEGORIES:Competition Hand In Night,Competiton
END:VEVENT
BEGIN:VEVENT
DTSTART;TZID=UTC:20210531T080000
DTEND;TZID=UTC:20210531T233000
DTSTAMP:20260422T005217
CREATED:20210517T165127Z
LAST-MODIFIED:20210517T165406Z
UID:3520-1622448000-1622503800@celbridgecameraclub.net
SUMMARY:Annual Exhibition Hand In
DESCRIPTION:This is the closing date for submissions for our Annual Exhibition. Due to Covid-19 restrictions this years exhibition will be an online event. \nDigital Images are to be e-mailed to the competition cccinternalcomp@gmail.com not later than 31/05/2021. \nMembers can submit 1 Colour and 1 Monochrome Digital Image.\n \nPlease make sure you follow the guidelines for submitting images (which can be found here) as otherwise your images may be disqualified.
URL:https://celbridgecameraclub.net/event/annual-exhibition-hand-in/
CATEGORIES:Competition Hand In Night,Competiton,Exhibition
END:VEVENT
BEGIN:VEVENT
DTSTART;TZID=UTC:20210405T080000
DTEND;TZID=UTC:20210405T233000
DTSTAMP:20260422T005217
CREATED:20200826T111947Z
LAST-MODIFIED:20200826T221536Z
UID:3252-1617609600-1617665400@celbridgecameraclub.net
SUMMARY:POTY Round 6 Hand In
DESCRIPTION:This is the closing date for submissions for the Round 6 of the Photographer of the Year competition (see details for this season’s competition here). Digital Images are to be e-mailed to the competition cccinternalcomp@gmail.com not later than 05/04/2021. \n‘Emotion’ (Mono DPI) is the theme for this round of the competition for Novice and Intermediate members. \nPlease make sure you follow the guidelines for submitting images (which can be found here) as otherwise your images may be disqualified.
URL:https://celbridgecameraclub.net/event/poty-round-6-hand-in/
LOCATION:Online
CATEGORIES:Competition Hand In Night,Competiton
END:VEVENT
BEGIN:VEVENT
DTSTART;TZID=UTC:20210301T080000
DTEND;TZID=UTC:20210301T233000
DTSTAMP:20260422T005217
CREATED:20200826T111751Z
LAST-MODIFIED:20200826T221556Z
UID:3250-1614585600-1614641400@celbridgecameraclub.net
SUMMARY:POTY Round 5 Hand In
DESCRIPTION:This is the closing date for submissions for the Round 5 of the Photographer of the Year competition (see details for this season’s competition here). Digital Images are to be e-mailed to the competition cccinternalcomp@gmail.com not later than 01/03/2021. \n‘The Night’ (Colour DPI) is the theme for this round of the competition for Novice and Intermediate members. \nPlease make sure you follow the guidelines for submitting images (which can be found here) as otherwise your images may be disqualified.
URL:https://celbridgecameraclub.net/event/poty-round-5-hand-in/
LOCATION:Online
CATEGORIES:Competition Hand In Night,Competiton
END:VEVENT
BEGIN:VEVENT
DTSTART;TZID=UTC:20210201T080000
DTEND;TZID=UTC:20210201T230000
DTSTAMP:20260422T005217
CREATED:20201223T205414Z
LAST-MODIFIED:20201223T205540Z
UID:3412-1612166400-1612220400@celbridgecameraclub.net
SUMMARY:Nature Competition Hand In Night
DESCRIPTION:Hand in night for the club nature competition.
URL:https://celbridgecameraclub.net/event/hand-in-night-for-nature-competition/
LOCATION:Online
CATEGORIES:Competition Hand In Night,Competiton
END:VEVENT
BEGIN:VEVENT
DTSTART;TZID=UTC:20210104T080000
DTEND;TZID=UTC:20210104T233000
DTSTAMP:20260422T005217
CREATED:20200826T111509Z
LAST-MODIFIED:20200826T221613Z
UID:3248-1609747200-1609803000@celbridgecameraclub.net
SUMMARY:POTY Round 4 Hand In
DESCRIPTION:This is the closing date for submissions for the Round 4 of the Photographer of the Year competition (see details for this season’s competition here). Digital Images are to be e-mailed to the competition cccinternalcomp@gmail.com not later than 04/01/2021. \n‘Alone’ (Mono DPI) is the theme for this round of the competition for Novice and Intermediate members. \nPlease make sure you follow the guidelines for submitting images (which can be found here) as otherwise your images may be disqualified.
URL:https://celbridgecameraclub.net/event/poty-round-4-hand-in/
LOCATION:Online
CATEGORIES:Competition Hand In Night,Competiton
END:VEVENT
BEGIN:VEVENT
DTSTART;TZID=UTC:20201123T080000
DTEND;TZID=UTC:20201123T233000
DTSTAMP:20260422T005217
CREATED:20200826T111313Z
LAST-MODIFIED:20200826T221638Z
UID:3246-1606118400-1606174200@celbridgecameraclub.net
SUMMARY:POTY Round 3 Hand In
DESCRIPTION:This is the closing date for submissions for the Round 3 of the Photographer of the Year competition (see details for this season’s competition here). Digital Images are to be e-mailed to the competition cccinternalcomp@gmail.com not later than 23/11/2020. \n‘Reflections’ (Colour DPI) is the theme for this round of the competition for Novice and Intermediate members. \nPlease make sure you follow the guidelines for submitting images (which can be found here) as otherwise your images may be disqualified.
URL:https://celbridgecameraclub.net/event/poty-round-3-hand-in/
LOCATION:Online
CATEGORIES:Competition Hand In Night,Competiton
END:VEVENT
BEGIN:VEVENT
DTSTART;TZID=UTC:20201026T080000
DTEND;TZID=UTC:20201026T233000
DTSTAMP:20260422T005217
CREATED:20200826T110906Z
LAST-MODIFIED:20200826T221658Z
UID:3243-1603699200-1603755000@celbridgecameraclub.net
SUMMARY:POTY Round 2 Hand In
DESCRIPTION:This is the closing date for submissions for the Round 2 of the Photographer of the Year competition (see details for this season’s competition here). Digital Images are to be e-mailed to the competition cccinternalcomp@gmail.com not later than 26/10/2020. \n‘The New Normal’ (Mono DPI) is the theme for this round of the competition for Novice and Intermediate members. \nPlease make sure you follow the guidelines for submitting images (which can be found here) as otherwise your images may be disqualified.
URL:https://celbridgecameraclub.net/event/poty-round-2-hand-in/
LOCATION:Online
CATEGORIES:Competition Hand In Night,Competiton
END:VEVENT
BEGIN:VEVENT
DTSTART;TZID=UTC:20200921T080000
DTEND;TZID=UTC:20200921T233000
DTSTAMP:20260422T005217
CREATED:20200826T110150Z
LAST-MODIFIED:20200826T221711Z
UID:3233-1600675200-1600731000@celbridgecameraclub.net
SUMMARY:POTY Round 1 Hand-In
DESCRIPTION:This is the closing date for submissions for the Round 1 of the Photographer of the Year competition (see details for this season’s competition here). Digital Images are to be e-mailed to the competition cccinternalcomp@gmail.com not later than 21/09/2020. \n‘Movement & Motion’ (Colour DPI) is the theme for this round of the competition for Novice and Intermediate members. \nPlease make sure you follow the guidelines for submitting images (which can be found here) as otherwise your images may be disqualified.
URL:https://celbridgecameraclub.net/event/poty-round-1-hand-in/
LOCATION:Online
CATEGORIES:Competition Hand In Night,Competiton
END:VEVENT
BEGIN:VEVENT
DTSTART;TZID=UTC:20200427T200000
DTEND;TZID=UTC:20200427T200000
DTSTAMP:20260422T005217
CREATED:20190719T231713Z
LAST-MODIFIED:20200422T210240Z
UID:2839-1588017600-1588017600@celbridgecameraclub.net
SUMMARY:Annual Exhibition Hand In Night
DESCRIPTION:Hand in night for images for the Annual Exhibition. \nEddie Mallin will be our judge for the exhibition. \nSee this post for detailed instructions regarding the exhibition.
URL:https://celbridgecameraclub.net/event/annual-exhibition-hand-in-night/
LOCATION:Slip Hall Celbridge
CATEGORIES:Competition Hand In Night,Competiton,Exhibition
END:VEVENT
BEGIN:VEVENT
DTSTART;TZID=UTC:20200406T200000
DTEND;TZID=UTC:20200406T200000
DTSTAMP:20260422T005217
CREATED:20190719T230446Z
LAST-MODIFIED:20190719T230447Z
UID:2835-1586203200-1586203200@celbridgecameraclub.net
SUMMARY:POTY Round 6 Hand In Night
DESCRIPTION:This is the hand in night for the 6th and final round of the Photographer of the Year competition (see details for this seasons’s competition here). \nAt the end of the day is the theme for this round of the competition for Novice and Intermediate members.\nDigital Projected Image is the media to be used for the themed image for Intermediate members. \nPlease make sure you follow the guidelines for submitting images (which can be found here) as otherwise your images may be disqualified.
URL:https://celbridgecameraclub.net/event/poty-round-6-hand-in-night-3/
LOCATION:Slip Hall Celbridge
CATEGORIES:Competition Hand In Night,Competiton
END:VEVENT
BEGIN:VEVENT
DTSTART;TZID=UTC:20200302T200000
DTEND;TZID=UTC:20200302T200000
DTSTAMP:20260422T005217
CREATED:20190719T230259Z
LAST-MODIFIED:20190719T230259Z
UID:2833-1583179200-1583179200@celbridgecameraclub.net
SUMMARY:POTY Round 5 Hand In Night
DESCRIPTION:This is the hand in night for the 5th round of the Photographer of the Year competition (see details for this seasons’s competition here). \nHustle and Bustle is the theme for this round of the competition for Novice and Intermediate members.\nMonochrome Print is the media to be used for the themed image for Intermediate members. \nPlease make sure you follow the guidelines for submitting images (which can be found here) as otherwise your images may be disqualified.
URL:https://celbridgecameraclub.net/event/poty-round-5-hand-in-night-3/
LOCATION:Slip Hall Celbridge
CATEGORIES:Competition Hand In Night,Competiton
END:VEVENT
BEGIN:VEVENT
DTSTART;TZID=UTC:20200203T200000
DTEND;TZID=UTC:20200203T200000
DTSTAMP:20260422T005217
CREATED:20190719T231155Z
LAST-MODIFIED:20190719T231155Z
UID:2837-1580760000-1580760000@celbridgecameraclub.net
SUMMARY:Nature Competition Hand In Night
DESCRIPTION:This is the hand in night for the Nature competition (see details for this seasons’s competition here). \nPlease make sure you follow the guidelines for submitting images (which can be found here) as otherwise your images may be disqualified.
URL:https://celbridgecameraclub.net/event/nature-competition-hand-in-night-3/
LOCATION:Slip Hall Celbridge
CATEGORIES:Competition Hand In Night,Competiton
END:VEVENT
BEGIN:VEVENT
DTSTART;TZID=UTC:20200106T200000
DTEND;TZID=UTC:20200106T200000
DTSTAMP:20260422T005217
CREATED:20190719T230046Z
LAST-MODIFIED:20190719T230553Z
UID:2831-1578340800-1578340800@celbridgecameraclub.net
SUMMARY:POTY Round 4 Hand In Night
DESCRIPTION:This is the hand in night for the 4th round of the Photographer of the Year competition (see details for this seasons’s competition here). \nAging Gracefully is the theme for this round of the competition for Novice and Intermediate members.\nColour Print is the media to be used for the themed image for Intermediate members. \nPlease make sure you follow the guidelines for submitting images (which can be found here) as otherwise your images may be disqualified.
URL:https://celbridgecameraclub.net/event/poty-round-4-hand-in-night-3/
LOCATION:Slip Hall Celbridge
CATEGORIES:Competition Hand In Night,Competiton
END:VEVENT
BEGIN:VEVENT
DTSTART;TZID=UTC:20191125T200000
DTEND;TZID=UTC:20191125T200000
DTSTAMP:20260422T005217
CREATED:20190719T225917Z
LAST-MODIFIED:20190719T225917Z
UID:2829-1574712000-1574712000@celbridgecameraclub.net
SUMMARY:POTY Round 3 Hand In Night
DESCRIPTION:This is the hand in night for the 3rd round of the Photographer of the Year competition (see details for this seasons’s competition here). \nDiversity is the theme for this round of the competition for Novice and Intermediate members.\nDigital Projected Image is the media to be used for the themed image for Intermediate members. \nPlease make sure you follow the guidelines for submitting images (which can be found here) as otherwise your images may be disqualified.
URL:https://celbridgecameraclub.net/event/poty-round-3-hand-in-night-3/
LOCATION:Slip Hall Celbridge
CATEGORIES:Competition Hand In Night,Competiton
END:VEVENT
BEGIN:VEVENT
DTSTART;TZID=UTC:20191021T200000
DTEND;TZID=UTC:20191021T200000
DTSTAMP:20260422T005218
CREATED:20190719T225716Z
LAST-MODIFIED:20190719T225825Z
UID:2827-1571688000-1571688000@celbridgecameraclub.net
SUMMARY:POTY Round 2 Hand In Night
DESCRIPTION:This is the hand in night for the 2nd round of the Photographer of the Year competition (see details for this seasons’s competition here). \nSelf Portrait is the theme for this round of the competition for Novice and Intermediate members.\nMonochrome Print is the media to be used for the themed image for Intermediate members. \nPlease make sure you follow the guidelines for submitting images (which can be found here) as otherwise your images may be disqualified.
URL:https://celbridgecameraclub.net/event/poty-round-2-hand-in-night-3/
LOCATION:Slip Hall Celbridge
CATEGORIES:Competition Hand In Night,Competiton
END:VEVENT
BEGIN:VEVENT
DTSTART;TZID=UTC:20190923T200000
DTEND;TZID=UTC:20190923T200000
DTSTAMP:20260422T005218
CREATED:20190719T225148Z
LAST-MODIFIED:20190719T225335Z
UID:2824-1569268800-1569268800@celbridgecameraclub.net
SUMMARY:POTY Round 1 Hand In Night
DESCRIPTION:This is the hand in night for the 1st round of the Photographer of the Year competition (see details for this seasons’s competition here). \nA River Scene is the theme for this round of the competition for Novice and Intermediate members.\nColour Print is the media to be used for the themed image for Intermediate members. \nPlease make sure you follow the guidelines for submitting images (which can be found here) as otherwise your images may be disqualified.
URL:https://celbridgecameraclub.net/event/poty-round-1-hand-in-night-3/
LOCATION:Slip Hall Celbridge
CATEGORIES:Competition Hand In Night,Competiton
END:VEVENT
BEGIN:VEVENT
DTSTART;TZID=UTC:20190429T200000
DTEND;TZID=UTC:20190429T220000
DTSTAMP:20260422T005218
CREATED:20180813T124740Z
LAST-MODIFIED:20190428T212747Z
UID:2460-1556568000-1556575200@celbridgecameraclub.net
SUMMARY:29th of April Exhibition Hand in Night
DESCRIPTION:This is the hand in night for the Annual Exhibition. \nEach member is entitled to enter 1 Colour Print\, 1 Mono Print and 1 Projected image for the annual exhibition. They can be any of your images that you wish to enter\, with the exception that you cannot enter images that you have entered into the club exhibition previously. \nAll print entries need to be framed\, so there is a cost to enter the prints – it’s €10 for one print or €16 for two prints which needs to be paid by the hand in night. \nThe requirements for entering images to the exhibition are the same as for entering images to the league – prints need to be surface mounted on 20″x16″ boards and labelled with your competition grade\, number\, media (i.e. colour or mono) and image title. Image title is important as all images will be listed in the exhibition brochure\, and projected images need to be emailed to the usual email address.
URL:https://celbridgecameraclub.net/event/exhibition-hand-in-night/
CATEGORIES:Competition Hand In Night,Competiton,Exhibition
END:VEVENT
BEGIN:VEVENT
DTSTART;TZID=UTC:20190401T200000
DTEND;TZID=UTC:20190401T220000
DTSTAMP:20260422T005218
CREATED:20180813T124527Z
LAST-MODIFIED:20180813T124527Z
UID:2458-1554148800-1554156000@celbridgecameraclub.net
SUMMARY:POTY Round 6 Hand In Night
DESCRIPTION:This is the hand in night for the 6th and final round of the Photographer of the Year competition (see details for this seasons’s competition here). \nNew Beginnings is the theme for this round of the competition for Novice and Intermediate members.\nDigital Projected Image is the media to be used for the themed image for Intermediate members. \nPlease make sure you follow the guidelines for submitting images (which can be found here) as otherwise your images may be disqualified.
URL:https://celbridgecameraclub.net/event/poty-round-6-hand-in-night-2/
CATEGORIES:Competition Hand In Night,Competiton
END:VEVENT
BEGIN:VEVENT
DTSTART;TZID=UTC:20190304T200000
DTEND;TZID=UTC:20190304T220000
DTSTAMP:20260422T005218
CREATED:20180813T124402Z
LAST-MODIFIED:20180813T124402Z
UID:2456-1551729600-1551736800@celbridgecameraclub.net
SUMMARY:POTY Round 5 Hand In Night
DESCRIPTION:This is the hand in night for the 5th round of the Photographer of the Year competition (see details for this seasons’s competition here). \nStormy Weather is the theme for this round of the competition for Novice and Intermediate members.\nMonochrome Print is the media to be used for the themed image for Intermediate members. \nPlease make sure you follow the guidelines for submitting images (which can be found here) as otherwise your images may be disqualified.
URL:https://celbridgecameraclub.net/event/poty-round-5-hand-in-night-2/
CATEGORIES:Competition Hand In Night,Competiton
END:VEVENT
END:VCALENDAR