BEGIN:VCALENDAR
VERSION:2.0
PRODID:-//Celbridge Camera Club - ECPv6.0.1//NONSGML v1.0//EN
CALSCALE:GREGORIAN
METHOD:PUBLISH
X-ORIGINAL-URL:https://celbridgecameraclub.net
X-WR-CALDESC:Events for Celbridge Camera Club
REFRESH-INTERVAL;VALUE=DURATION:PT1H
X-Robots-Tag:noindex
X-PUBLISHED-TTL:PT1H
BEGIN:VTIMEZONE
TZID:UTC
BEGIN:STANDARD
TZOFFSETFROM:+0000
TZOFFSETTO:+0000
TZNAME:UTC
DTSTART:20220101T000000
END:STANDARD
END:VTIMEZONE
BEGIN:VEVENT
DTSTART;TZID=UTC:20221114T200000
DTEND;TZID=UTC:20221114T220000
DTSTAMP:20260423T162847
CREATED:20220830T203226Z
LAST-MODIFIED:20220903T145644Z
UID:4261-1668456000-1668463200@celbridgecameraclub.net
SUMMARY:Presentation: Kieran O Mahony AIPF (Mallow Camera Club.) via zoom
DESCRIPTION:Kieran O Mahony is an award winning landscape\, wildlife and portrait photographer. Kieran will give his presentation via Zoom which will be available to watch in the Slip Hall on the night.
URL:https://celbridgecameraclub.net/event/presentation-kieran-omahony-mallow-c-c-via-zoom/
CATEGORIES:Meeting,Presentation
END:VEVENT
BEGIN:VEVENT
DTSTART;TZID=UTC:20221121T200000
DTEND;TZID=UTC:20221121T220000
DTSTAMP:20260423T162847
CREATED:20220830T203334Z
LAST-MODIFIED:20220903T145232Z
UID:4264-1669060800-1669068000@celbridgecameraclub.net
SUMMARY:Presentation: Michael Hogan
DESCRIPTION:Club member Michael Hogan is a highly accomplished professional photographer. His expertise extends across the whole spectrum of photography including – Fashion\, Portraiture\, Fine art and Landscape. Michael’s presentation is definitely not to be missed.
URL:https://celbridgecameraclub.net/event/presentation-michael-horton/
CATEGORIES:Meeting,Presentation
END:VEVENT
BEGIN:VEVENT
DTSTART;VALUE=DATE:20221128
DTEND;VALUE=DATE:20221129
DTSTAMP:20260423T162847
CREATED:20220706T203856Z
LAST-MODIFIED:20220905T170627Z
UID:4176-1669593600-1669679999@celbridgecameraclub.net
SUMMARY:POTY Round 3 Hand In. Theme: Pure Imagination (Creative/Composite) & Guest Speaker Zdenek Malich
DESCRIPTION:Zdenek fell in love with the Irish landscape while living for a few years in the West of Ireland. He relocated to Dublin and eagerly attended workshops in the Czech Republic and Ireland and soon found his niche in long-exposure photography – a discipline which Zdenek has mastered and has as his signature. \nThis is the closing date for submissions for the Round 6 of the Photographer of the Year competition (see details for this season’s competition here). Digital Images are to be e-mailed to the competition cccinternalcomp@gmail.com not later than 28/11/2022. \nPlease make sure you follow the guidelines for submitting images (which can be found here) as otherwise your images may be disqualified.
URL:https://celbridgecameraclub.net/event/poty-round-3-hand-in-theme-pure-imagination-creative-composite/
CATEGORIES:Competition Hand In Night,Competiton,Meeting,Presentation
END:VEVENT
END:VCALENDAR