BEGIN:VCALENDAR
VERSION:2.0
PRODID:-//Celbridge Camera Club - ECPv6.0.1//NONSGML v1.0//EN
CALSCALE:GREGORIAN
METHOD:PUBLISH
X-ORIGINAL-URL:https://celbridgecameraclub.net
X-WR-CALDESC:Events for Celbridge Camera Club
REFRESH-INTERVAL;VALUE=DURATION:PT1H
X-Robots-Tag:noindex
X-PUBLISHED-TTL:PT1H
BEGIN:VTIMEZONE
TZID:UTC
BEGIN:STANDARD
TZOFFSETFROM:+0000
TZOFFSETTO:+0000
TZNAME:UTC
DTSTART:20220101T000000
END:STANDARD
END:VTIMEZONE
BEGIN:VEVENT
DTSTART;TZID=UTC:20221024T200000
DTEND;TZID=UTC:20221024T220000
DTSTAMP:20260423T221128
CREATED:20220830T202915Z
LAST-MODIFIED:20220903T144703Z
UID:4257-1666641600-1666648800@celbridgecameraclub.net
SUMMARY:Presentation: Joe Houghton - Long Exposure Photography
DESCRIPTION:Dublin based photographer and author of “Take your Time – the art and craft of long exposure”\, Joe Houghton shares insights into how to successfully execute long exposure photography.
URL:https://celbridgecameraclub.net/event/presentation-joe-houghan-long-exposure/
CATEGORIES:Meeting,Presentation
END:VEVENT
END:VCALENDAR