BEGIN:VCALENDAR
VERSION:2.0
PRODID:-//Celbridge Camera Club - ECPv6.0.1//NONSGML v1.0//EN
CALSCALE:GREGORIAN
METHOD:PUBLISH
X-ORIGINAL-URL:https://celbridgecameraclub.net
X-WR-CALDESC:Events for Celbridge Camera Club
REFRESH-INTERVAL;VALUE=DURATION:PT1H
X-Robots-Tag:noindex
X-PUBLISHED-TTL:PT1H
BEGIN:VTIMEZONE
TZID:UTC
BEGIN:STANDARD
TZOFFSETFROM:+0000
TZOFFSETTO:+0000
TZNAME:UTC
DTSTART:20190101T000000
END:STANDARD
END:VTIMEZONE
BEGIN:VEVENT
DTSTART;TZID=UTC:20191104T200000
DTEND;TZID=UTC:20191104T220000
DTSTAMP:20260423T133955
CREATED:20190719T232458Z
LAST-MODIFIED:20190818T191241Z
UID:2843-1572897600-1572904800@celbridgecameraclub.net
SUMMARY:POTY Round 2 Judging Night
DESCRIPTION:Judging for round 2 of the POTY. \nGerry Andrews from Dublin Camera Club will be our judge for this round of the competition.
URL:https://celbridgecameraclub.net/event/poty-round-2-judging-night-2/
LOCATION:Slip Hall Celbridge
CATEGORIES:Competition Judging Night,Competiton
END:VEVENT
BEGIN:VEVENT
DTSTART;TZID=UTC:20191111T200000
DTEND;TZID=UTC:20191111T213000
DTSTAMP:20260423T133955
CREATED:20191106T130255Z
LAST-MODIFIED:20191106T130255Z
UID:2961-1573502400-1573507800@celbridgecameraclub.net
SUMMARY:Next Monday\, the 11th of November\, we are delighted to have one of our own photographers\, Turlough O’Reilly\, present a cross section of his wonderful images.
DESCRIPTION:Turlough likes all types of photography. His post-processing skills are exceptional and Turlough has been more than generous with his time in helping less experienced members within the club. He is a former Chairman and\, although he may not blow his own trumpet\, his name can be found on several of our trophies.
URL:https://celbridgecameraclub.net/event/next-monday-the-11th-of-november-we-are-delighted-to-have-one-of-our-own-photographers-turlough-oreilly-present-a-cross-section-of-his-wonderful-images/
CATEGORIES:Presentation
END:VEVENT
BEGIN:VEVENT
DTSTART;TZID=UTC:20191118T200000
DTEND;TZID=UTC:20191118T213000
DTSTAMP:20260423T133955
CREATED:20190930T155353Z
LAST-MODIFIED:20190930T155353Z
UID:2932-1574107200-1574112600@celbridgecameraclub.net
SUMMARY:On Monday the 18th of November we will have a presentation by Bob Given of the Catchlight Camera Club of Belfast.
DESCRIPTION:Bob will present a wonderful selection of his sports photography. He will also display his panel for which he was presented his Master Award of the Photographic Alliance of Great Britain (MPAGB). This is awarded for an exceptional standard of photography which few photographers can aspire to!
URL:https://celbridgecameraclub.net/event/on-monday-the-18th-of-november-we-will-have-a-presentation-by-bob-given-of-the-catchlight-camera-club-of-belfast/
END:VEVENT
BEGIN:VEVENT
DTSTART;TZID=UTC:20191125T200000
DTEND;TZID=UTC:20191125T200000
DTSTAMP:20260423T133955
CREATED:20190719T225917Z
LAST-MODIFIED:20190719T225917Z
UID:2829-1574712000-1574712000@celbridgecameraclub.net
SUMMARY:POTY Round 3 Hand In Night
DESCRIPTION:This is the hand in night for the 3rd round of the Photographer of the Year competition (see details for this seasons’s competition here). \nDiversity is the theme for this round of the competition for Novice and Intermediate members.\nDigital Projected Image is the media to be used for the themed image for Intermediate members. \nPlease make sure you follow the guidelines for submitting images (which can be found here) as otherwise your images may be disqualified.
URL:https://celbridgecameraclub.net/event/poty-round-3-hand-in-night-3/
LOCATION:Slip Hall Celbridge
CATEGORIES:Competition Hand In Night,Competiton
END:VEVENT
BEGIN:VEVENT
DTSTART;TZID=UTC:20191125T200000
DTEND;TZID=UTC:20191125T213000
DTSTAMP:20260423T133955
CREATED:20191118T160416Z
LAST-MODIFIED:20191118T160416Z
UID:2971-1574712000-1574717400@celbridgecameraclub.net
SUMMARY:Next Monday\, the 25th of November\, we will have a presentation by our own Christine Taylor. She is a former Chairperson and Competition Secretary of the club. Wildlife and sports photography are her passions.
DESCRIPTION:Christine is especially known for her wonderful equine sports photography. Regarding wildlife photography\, on one of her recent trips to the Saltee Islands\, she drew attention to the damage caused by pollution in our coastal waters with her powerful photo of a gannet with orange plastic netting wound around its neck. This photo appeared on the front page of the Irish Times.
URL:https://celbridgecameraclub.net/event/next-monday-the-25th-of-november-we-will-have-a-presentation-by-our-own-christine-taylor-she-is-a-former-chairperson-and-competition-secretary-of-the-club-wildlife-and-sports-photography-are-her-p/
CATEGORIES:Presentation
END:VEVENT
END:VCALENDAR