BEGIN:VCALENDAR
VERSION:2.0
PRODID:-//Celbridge Camera Club - ECPv6.0.1//NONSGML v1.0//EN
CALSCALE:GREGORIAN
METHOD:PUBLISH
X-WR-CALNAME:Celbridge Camera Club
X-ORIGINAL-URL:https://celbridgecameraclub.net
X-WR-CALDESC:Events for Celbridge Camera Club
REFRESH-INTERVAL;VALUE=DURATION:PT1H
X-Robots-Tag:noindex
X-PUBLISHED-TTL:PT1H
BEGIN:VTIMEZONE
TZID:UTC
BEGIN:STANDARD
TZOFFSETFROM:+0000
TZOFFSETTO:+0000
TZNAME:UTC
DTSTART:20260101T000000
END:STANDARD
END:VTIMEZONE
BEGIN:VEVENT
DTSTART;TZID=UTC:20260302T200000
DTEND;TZID=UTC:20260302T220000
DTSTAMP:20260420T145840
CREATED:20260128T234242Z
LAST-MODIFIED:20260307T165914Z
UID:5935-1772481600-1772488800@celbridgecameraclub.net
SUMMARY:Mark Sedgewick presentation on Composites
DESCRIPTION:We are delighted to have lifetime club member Mark Sedgwick talk about Composite photography. Mark is a long time member of this club and is an advanced photographer holding a FIPF and MFIAP distinctions. His experience in all things photographic is immense. This evening should be a fun\, informative night to get your creative juices flowing.
URL:https://celbridgecameraclub.net/event/mark-sedgewick-presentation-on-composites/
LOCATION:Slip Hall Celbridge
CATEGORIES:Meeting,Presentation
END:VEVENT
BEGIN:VEVENT
DTSTART;TZID=UTC:20260309T200000
DTEND;TZID=UTC:20260309T220000
DTSTAMP:20260420T145840
CREATED:20260128T234045Z
LAST-MODIFIED:20260128T234045Z
UID:5933-1773086400-1773093600@celbridgecameraclub.net
SUMMARY:Members ‘L’ Panels
DESCRIPTION:4 club members who have achieved their LIPF distinctions will showcase their successful images and give a talk about their ‘L’ Panel journey and experience.
URL:https://celbridgecameraclub.net/event/members-l-panels/
LOCATION:Slip Hall Celbridge
CATEGORIES:Meeting,Presentation
END:VEVENT
BEGIN:VEVENT
DTSTART;TZID=UTC:20260316T200000
DTEND;TZID=UTC:20260316T220000
DTSTAMP:20260420T145840
CREATED:20260128T234433Z
LAST-MODIFIED:20260307T165755Z
UID:5937-1773691200-1773698400@celbridgecameraclub.net
SUMMARY:In the Judge’s Chair
DESCRIPTION:Tonight all members are been given the opportunity to become a Judge!\nThe Slip Hall will be broken into 8 judging stations where there will be an advanced member at each station experienced in Judging\, giving you the tips and tricks and what to look out for when judging an image. Members will be broken up into groups of 5 or 6\, and everyone will have the opportunity to judge a selection of images and mark them accordingly.\nThis fun and practical night will give members an insight into what Judges are looking for when looking at an image.
URL:https://celbridgecameraclub.net/event/in-the-judges-chair/
LOCATION:Slip Hall Celbridge
CATEGORIES:Meeting,Workshop
END:VEVENT
BEGIN:VEVENT
DTSTART;TZID=UTC:20260323T200000
DTEND;TZID=UTC:20260323T220000
DTSTAMP:20260420T145840
CREATED:20251126T221852Z
LAST-MODIFIED:20251126T222732Z
UID:5855-1774296000-1774303200@celbridgecameraclub.net
SUMMARY:POTY Round 5 Hand In. Theme: Composite (2 or more layers)
DESCRIPTION:Hand in for Round 5 of the POTY. The theme for this round is Composite (2 or more layers). \nThis is the closing date for submissions for Round 5 of the Photographer of the Year competition (see details for this season’s competition here).  \nPlease make sure you follow the guidelines for submitting images (which can be found here) as otherwise your images may be disqualified.
URL:https://celbridgecameraclub.net/event/poty-round-5-hand-in-theme-composite-2-or-more-layers/
LOCATION:Slip Hall Celbridge
CATEGORIES:Competition Hand In Night,Competiton
END:VEVENT
BEGIN:VEVENT
DTSTART;TZID=UTC:20260323T200000
DTEND;TZID=UTC:20260323T220000
DTSTAMP:20260420T145840
CREATED:20251126T224128Z
LAST-MODIFIED:20260307T164947Z
UID:5871-1774296000-1774303200@celbridgecameraclub.net
SUMMARY:Judging for the Nature Photographer of the Year
DESCRIPTION:This evening we will have judging for the NPOTY. Please be early as there are always a lot of images to get through and we will start on time. \nSuzanne Behan from Kilkenny Photographic Society will be our judge for this season’s nature competition.
URL:https://celbridgecameraclub.net/event/judging-for-the-nature-photographer-of-the-year/
CATEGORIES:Competition Judging Night,Competiton,Meeting
END:VEVENT
BEGIN:VEVENT
DTSTART;TZID=UTC:20260330T200000
DTEND;TZID=UTC:20260330T220000
DTSTAMP:20260420T145840
CREATED:20251126T223644Z
LAST-MODIFIED:20260113T202906Z
UID:5867-1774900800-1774908000@celbridgecameraclub.net
SUMMARY:Judging POTY Round 5
DESCRIPTION:Judging for Round 5 of the POTY. \nThe judge for this round is Paul Stanley.
URL:https://celbridgecameraclub.net/event/judging-poty-round-5/
LOCATION:Slip Hall Celbridge
CATEGORIES:Competition Judging Night,Competiton,Meeting
END:VEVENT
END:VCALENDAR